Workbook

Sheet LEEME - REVISION
A1: CIVILGEEKS | REVISIÓN DEL ARCHIVO
A2: Zapata aislada y combinada — versión revisada para publicación educativa
A4: ESTADO | B4: REVISIÓN PRELIMINAR. No es una certificación ni una validación estructural de los resultados.
A5: Qué se revisó | B5: Se inspeccionaron las hojas, fórmulas visibles, referencias normativas escritas y la organización general del libro.
A6: Qué se conservó | B6: Se conservaron las hojas y fórmulas originales. No se cambiaron ecuaciones ni resultados de diseño porque hacerlo sin una verificación independiente podría introducir errores estructurales.
A7: Normativa indicada | B7: Las hojas principales mencionan ACI 318S-08. Es una referencia antigua; antes de usar resultados en un proyecto real, un profesional debe revisar y actualizar los criterios conforme a la normativa vigente aplicable.
A8: Hojas del libro | B8: El archivo contiene «Zap. Centrica Aislada», «Combinada Rectangular», «Parametros» y dos hojas de datos («Hoja1» y «Hoja2») que parecen corresponder a datos de otro modelo. Verificar si estas dos últimas hojas deben acompañar al recurso.
A9: Autoría | B9: La autoría del archivo no ha podido confirmarse con el contenido disponible. No atribuirlo a una persona sin una fuente verificable.
A10: Uso recomendado | B10: Solo como material de estudio y revisión. No usar para construir ni tomar decisiones de diseño sin comprobar cálculos, hipótesis, unidades, cargas, suelo, punzonamiento, cortante, flexión, anclajes y normativa.
A11: Descargo de responsabilidad | B11: CivilGeeks comparte este archivo con fines educativos. El usuario debe verificar de forma independiente su exactitud y adecuación. CivilGeeks no certifica ni garantiza sus resultados de diseño.
A12: Contacto de derechos | B12: Si eres titular de derechos sobre este material y solicitas su revisión o retiro, escribe a civilgeeks@gmail.com.
A13: Siguiente revisión técnica | B13: Para validar realmente el cálculo se necesita contrastar cada ecuación con un procedimiento de referencia, probar varios casos conocidos y comparar resultados con cálculo independiente o software confiable. Esta revisión no se ha completado.

Sheet Zap. Centrica Aislada
A1: ZAPATA CENTRICA | M1: Columna | N1: Peso Total (Kg) | O1: PD Total (Kg) | P1: PL Total (Kg) | Q1: t1 (m) | R1: t2 (m) | S1: T (m) | T1: S (m) | U1: PERALTE (m) | V1: Doblar Ref | W1: Rigidez Resorte (Tn/m)
D2: ACI 318S-08 | M2: 1B | N2: =SUM(O2:P2) | O2: =AC3 | P2: =AM3 | Q2: 0.3 | R2: 0.75 | S2: 1.75 | T2: 1.75 | U2: 0.3 | V2: SI | W2: =PRODUCT(2.5,S2,T2,10000)/10 | X2: Story | Y2: Point | Z2: Load | AA2: FX | AB2: FY | AC2: FZ | AD2: MX | AE2: MY | AF2: MZ | AH2: Story | AI2: Point | AJ2: Load | AK2: FX | AL2: FY | AM2: FZ | AN2: MX | AO2: MY | AP2: MZ
A3: Col: | B3: 3A | M3: 1C | N3: =SUM(O3:P3) | O3: =AC4 | P3: =AM4 | Q3: 0.3 | R3: 0.75 | S3: 1.75 | T3: 1.75 | U3: 0.3 | V3: SI | W3: =PRODUCT(2.5,S3,T3,10000)/10 | X3: BASE | Y3: 6 | Z3: PD | AA3: -2123.44 | AB3: -275.39 | AC3: 73091.48 | AD3: 162.178 | AE3: -1524.115 | AF3: -0.195 | AH3: BASE | AI3: 6 | AJ3: PL | AK3: -973.11 | AL3: -124.07 | AM3: 23817.8 | AN3: 72.937 | AO3: -698.479 | AP3: -0.115
A4: Pd = | B4: =VLOOKUP(B3,M2:P69,3,FALSE) | C4: Kg | M4: 2A | N4: =SUM(O4:P4) | O4: =AC5 | P4: =AM5 | Q4: 0.75 | R4: 0.3 | S4: 1.75 | T4: 1.75 | U4: 0.3 | V4: SI | W4: =PRODUCT(2.5,S4,T4,10000)/10 | X4: BASE | Y4: 7 | Z4: PD | AA4: -1246.72 | AB4: 198.67 | AC4: 71488.08 | AD4: -138.388 | AE4: -897.621 | AF4: -0.195 | AH4: BASE | AI4: 7 | AJ4: PL | AK4: -624.31 | AL4: 92.64 | AM4: 24781.59 | AN4: -64.857 | AO4: -449.44 | AP4: -0.115
A5: Pl = | B5: =VLOOKUP(B3,M2:P69,4,FALSE) | C5: Kg | M5: 4A | N5: =SUM(O5:P5) | O5: =AC6 | P5: =AM6 | Q5: 0.95 | R5: 0.3 | S5: 1.75 | T5: 1.75 | U5: 0.3 | V5: SI | W5: =PRODUCT(2.5,S5,T5,10000)/10 | X5: BASE | Y5: 12 | Z5: PD | AA5: -38.29 | AB5: 1113.5 | AC5: 85011.74 | AD5: -801.235 | AE5: -24.105 | AF5: -0.195 | AH5: BASE | AI5: 12 | AJ5: PL | AK5: -9.29 | AL5: 569.62 | AM5: 29262.12 | AN5: -409.884 | AO5: -5.664 | AP5: -0.115
A6: Df = | B6: 1.2 | C6: m | M6: 2D | N6: =SUM(O6:P6) | O6: =AC7 | P6: =AM7 | Q6: 0.95 | R6: 0.3 | S6: 1.75 | T6: 1.75 | U6: 0.3 | V6: SI | W6: =PRODUCT(2.5,S6,T6,10000)/10 | X6: BASE | Y6: 14 | Z6: PD | AA6: -727.04 | AB6: 830.23 | AC6: 71359.49 | AD6: -596.644 | AE6: -432.078 | AF6: -0.304 | AH6: BASE | AI6: 14 | AJ6: PL | AK6: -327.73 | AL6: 424.84 | AM6: 21544.07 | AN6: -305.359 | AO6: -194.715 | AP6: -0.211
A7: S/C = | B7: 500 | C7: Kg/m² | M7: 10D | N7: =SUM(O7:P7) | O7: =AC8 | P7: =AM8 | Q7: 0.95 | R7: 0.3 | S7: 1.75 | T7: 1.75 | U7: 0.3 | V7: SI | W7: =PRODUCT(2.5,S7,T7,10000)/10 | X7: BASE | Y7: 15 | Z7: PD | AA7: 503.08 | AB7: 839.41 | AC7: 84873.8 | AD7: -604.555 | AE7: 300.476 | AF7: -0.304 | AH7: BASE | AI7: 15 | AJ7: PL | AK7: 248.2 | AL7: 430.91 | AM7: 27088.38 | AN7: -310.336 | AO7: 148.261 | AP7: -0.211
A8: t1 = | B8: =VLOOKUP(B3,M2:R69,5,FALSE) | C8: m | M8: 5B | N8: =SUM(O8:P8) | O8: =AC9 | P8: =AM9 | Q8: 0.75 | R8: 0.3 | S8: 1.75 | T8: 1.75 | U8: 0.3 | V8: SI | W8: =PRODUCT(2.5,S8,T8,10000)/10 | X8: BASE | Y8: 17 | Z8: PD | AA8: -162.25 | AB8: 731.8 | AC8: 65757.52 | AD8: -526.417 | AE8: -95.846 | AF8: -0.304 | AH8: BASE | AI8: 17 | AJ8: PL | AK8: -53.69 | AL8: 379.1 | AM8: 19863.83 | AN8: -272.735 | AO8: -31.569 | AP8: -0.211
A9: t2 = | B9: =VLOOKUP(B3,M2:R69,6,FALSE) | C9: m | M9: 5C | N9: =SUM(O9:P9) | O9: =AC10 | P9: =AM10 | Q9: 0.75 | R9: 0.3 | S9: 1.75 | T9: 1.75 | U9: 0.3 | V9: SI | W9: =PRODUCT(2.5,S9,T9,10000)/10 | X9: BASE | Y9: 18 | Z9: PD | AA9: -441.5 | AB9: 738.06 | AC9: 64683.4 | AD9: -530.826 | AE9: -285.386 | AF9: -0.224 | AH9: BASE | AI9: 18 | AJ9: PL | AK9: -212.71 | AL9: 389.28 | AM9: 23682.68 | AN9: -279.986 | AO9: -137.472 | AP9: -0.156
A10: hc = | B10: 0.2 | C10: m | M10: 3A | N10: =SUM(O10:P10) | O10: =AC11 | P10: =AM11 | Q10: 0.75 | R10: 0.3 | S10: 2.3 | T10: 2.35 | U10: 0.3 | V10: SI | W10: =PRODUCT(2.5,S10,T10,10000)/10 | X10: BASE | Y10: 19 | Z10: PD | AA10: 228.39 | AB10: 731.76 | AC10: 65640.59 | AD10: -526.705 | AE10: 148.317 | AF10: -0.224 | AH10: BASE | AI10: 19 | AJ10: PL | AK10: 112.89 | AL10: 388.03 | AM10: 23985.48 | AN10: -279.289 | AO10: 73.327 | AP10: -0.156
A11: ϒm = | B11: 1900 | C11: Kg/m³ | M11: 3D | N11: =SUM(O11:P11) | O11: =AC12 | P11: =AM12 | Q11: 0.3 | R11: 0.75 | S11: 2.3 | T11: 2.35 | U11: 0.3 | V11: SI | W11: =PRODUCT(2.5,S11,T11,10000)/10 | X11: BASE | Y11: 21 | Z11: PD | AA11: -283.1 | AB11: 454.22 | AC11: 42417.92 | AD11: -326.672 | AE11: -183.01 | AF11: -0.224 | AH11: BASE | AI11: 21 | AJ11: PL | AK11: -113.14 | AL11: 242.63 | AM11: 13527.36 | AN11: -174.522 | AO11: -73.101 | AP11: -0.156
A12: σt = | B12: 0.9 | C12: Kg/cm² | M12: 2B | N12: =SUM(O12:P12) | O12: =AC13 | P12: =AM13 | Q12: 0.3 | R12: 0.75 | S12: 2.75 | T12: 2.8 | U12: 0.3 | V12: SI | W12: =PRODUCT(2.5,S12,T12,10000)/10 | X12: BASE | Y12: 24 | Z12: PD | AA12: 216.81 | AB12: 156.98 | AC12: 38541.74 | AD12: -100.121 | AE12: 154.655 | AF12: -0.224 | AH12: BASE | AI12: 24 | AJ12: PL | AK12: 105.54 | AL12: 103.05 | AM12: 9893.91 | AN12: -66.001 | AO12: 75.08 | AP12: -0.156
A13: f'c = | B13: 210 | C13: Kg/cm² | M13: 2C | N13: =SUM(O13:P13) | O13: =AC14 | P13: =AM14 | Q13: 0.3 | R13: 0.75 | S13: 2.75 | T13: 2.8 | U13: 0.3 | V13: SI | W13: =PRODUCT(2.5,S13,T13,10000)/10 | X13: BASE | Y13: 25 | Z13: PD | AA13: 394.11 | AB13: -541.8 | AC13: 47291.83 | AD13: 354.18 | AE13: 287.375 | AF13: -0.195 | AH13: BASE | AI13: 25 | AJ13: PL | AK13: 180.24 | AL13: -236.89 | AM13: 13020.35 | AN13: 154.921 | AO13: 131.345 | AP13: -0.115
A14: f'c = | B14: 280 | C14: Kg/cm² | M14: 4B | N14: =SUM(O14:P14) | O14: =AC15 | P14: =AM15 | Q14: 0.75 | R14: 0.3 | S14: 2.75 | T14: 2.8 | U14: 0.3 | V14: SI | W14: =PRODUCT(2.5,S14,T14,10000)/10 | X14: BASE | Y14: 26 | Z14: PD | AA14: 585.19 | AB14: 13.39 | AC14: 59920.02 | AD14: -4.263 | AE14: 420.525 | AF14: -0.195 | AH14: BASE | AI14: 26 | AJ14: PL | AK14: 292.44 | AL14: 6.11 | AM14: 21912.1 | AN14: -1.753 | AO14: 210.159 | AP14: -0.115
A15: fy = | B15: 4200 | C15: Kg/cm² | M15: 4C | N15: =SUM(O15:P15) | O15: =AC16 | P15: =AM16 | Q15: 0.75 | R15: 0.3 | S15: 2.75 | T15: 2.8 | U15: 0.3 | W15: =PRODUCT(2.5,S15,T15,10000)/10 | X15: BASE | Y15: 29 | Z15: PD | AA15: 395.28 | AB15: -356.45 | AC15: 50241.33 | AD15: 256.495 | AE15: 255.912 | AF15: -0.195 | AH15: BASE | AI15: 29 | AJ15: PL | AK15: 161.98 | AL15: -169.54 | AM15: 14537.78 | AN15: 122 | AO15: 104.872 | AP15: -0.115
M16: 3B | N16: =SUM(O16:P16) | O16: =AC17 | P16: =AM17 | Q16: 0.95 | R16: 0.3 | S16: 3.25 | T16: 3.25 | U16: 0.35 | W16: =PRODUCT(2.5,S16,T16,10000)/10 | X16: BASE | Y16: 30 | Z16: PD | AA16: 36.21 | AB16: -456.75 | AC16: 50410.58 | AD16: 328.67 | AE16: 23.446 | AF16: -0.224 | AH16: BASE | AI16: 30 | AJ16: PL | AK16: 23.34 | AL16: -227.19 | AM16: 14182.28 | AN16: 163.481 | AO16: 15.113 | AP16: -0.156
A17: 1° | B17: Esfuerzo Neto del Terreno | M17: 3C | N17: =SUM(O17:P17) | O17: =AC18 | P17: =AM18 | Q17: 0.95 | R17: 0.3 | S17: 3.25 | T17: 3.25 | U17: 0.35 | W17: =PRODUCT(2.5,S17,T17,10000)/10 | X17: BASE | Y17: 32 | Z17: PD | AA17: -556.87 | AB17: -332.57 | AC17: 43096.02 | AD17: 239.313 | AE17: -331.614 | AF17: -0.332 | AH17: BASE | AI17: 32 | AJ17: PL | AK17: -230.63 | AL17: -161.48 | AM17: 9422.75 | AN17: 116.197 | AO17: -137.338 | AP17: -0.247
M18: 2H | N18: =SUM(O18:P18) | O18: =AC19 | P18: =AM19 | Q18: 0.95 | R18: 0.3 | X18: BASE | Y18: 33 | Z18: PD | AA18: -833.53 | AB18: -316.75 | AC18: 64862.01 | AD18: 227.933 | AE18: -496.367 | AF18: -0.304 | AH18: BASE | AI18: 33 | AJ18: PL | AK18: -346.37 | AL18: -152.72 | AM18: 18478.28 | AN18: 109.893 | AO18: -206.26 | AP18: -0.211
B19: σn = | C19: =B12-B11*B6*10^-4-2400*B10*10^-4-B7*10^-4 | D19: Kg/cm² | M19: 5H | N19: =SUM(O19:P19) | O19: =AC20 | P19: =AM20 | Q19: 0.75 | R19: 0.3 | X19: BASE | Y19: 35 | Z19: PD | AA19: -601.89 | AB19: -373.63 | AC19: 59680.31 | AD19: 268.857 | AE19: -358.424 | AF19: -0.264 | AH19: BASE | AI19: 35 | AJ19: PL | AK19: -246.41 | AL19: -176.39 | AM19: 17091.1 | AN19: 126.93 | AO19: -146.738 | AP19: -0.155
M20: 6I | N20: =SUM(O20:P20) | O20: =AC21 | P20: =AM21 | Q20: 0.75 | R20: 0.3 | X20: BASE | Y20: 36 | Z20: PD | AA20: -403.84 | AB20: -527.64 | AC20: 67184.85 | AD20: 379.685 | AE20: -261.457 | AF20: -0.195 | AH20: BASE | AI20: 36 | AJ20: PL | AK20: -183.32 | AL20: -270.08 | AM20: 23039.97 | AN20: 194.346 | AO20: -118.687 | AP20: -0.115
A21: 2° | B21: Area de la Zapata | D21: =CONCATENATE(" T = S = ",ROUND(SQRT(C23)/100,2)," x ",ROUND(SQRT(C23)/100,2)," m2") | M21: 7I | N21: =SUM(O21:P21) | O21: =AC22 | P21: =AM22 | Q21: 0.65 | R21: 0.65 | X21: BASE | Y21: 37 | Z21: PD | AA21: 207.44 | AB21: -584.56 | AC21: 68749.15 | AD21: 420.641 | AE21: 134.303 | AF21: -0.195 | AH21: BASE | AI21: 37 | AJ21: PL | AK21: 102.99 | AL21: -297.67 | AM21: 23605.28 | AN21: 214.202 | AO21: 66.679 | AP21: -0.115
M22: 4D | N22: =SUM(O22:P22) | O22: =AC23 | P22: =AM23 | Q22: 0.65 | R22: 0.65 | X22: BASE | Y22: 60 | Z22: PD | AA22: 57.57 | AB22: 38.82 | AC22: 183979.23 | AD22: -55.229 | AE22: 52.489 | AF22: -0.97 | AH22: BASE | AI22: 60 | AJ22: PL | AK22: 17.28 | AL22: 21.23 | AM22: 73040.52 | AN22: -29.335 | AO22: 6.233 | AP22: -0.57
B23: Azap = | C23: =SUM(B4:B5)/C19 | D23: cm² | E23: =D27*D28*10000 | F23: cm² | M23: 5D | N23: =SUM(O23:P23) | O23: =AC24 | P23: =AM24 | Q23: 0.65 | R23: 0.65 | X23: BASE | Y23: 62 | Z23: PD | AA23: 13.79 | AB23: 41.68 | AC23: 179764.14 | AD23: -59.134 | AE23: -4.974 | AF23: -0.97 | AH23: BASE | AI23: 62 | AJ23: PL | AK23: -7.25 | AL23: 21.2 | AM23: 71294.14 | AN23: -29.293 | AO23: -25.908 | AP23: -0.57
N24: =SUM(O24:P24) | O24: =AC25 | P24: =AM25 | Q24: 0.65 | R24: 0.65 | X24: BASE | Y24: 64 | Z24: PD | AA24: -176.37 | AB24: 21.28 | AC24: 180617.32 | AD24: -31.261 | AE24: -262.431 | AF24: -0.97 | AH24: BASE | AI24: 64 | AJ24: PL | AK24: -107.66 | AL24: 10.47 | AM24: 71656.86 | AN24: -14.626 | AO24: -161.717 | AP24: -0.57
B25: Debe Cumplir que Lv1 = Lv2: | N25: =SUM(O25:P25) | O25: =AC26 | P25: =AM26 | Q25: 0.65 | R25: 0.65 | X25: BASE | Y25: 67 | Z25: PD | AA25: -231.69 | AB25: -99.71 | AC25: 160969.41 | AD25: 154.932 | AE25: -342.691 | AF25: -0.97 | AH25: BASE | AI25: 67 | AJ25: PL | AK25: -110.38 | AL25: -48.08 | AM25: 80507.27 | AN25: 77.646 | AO25: -168.187 | AP25: -0.57
N26: =SUM(O26:P26) | O26: =AC27 | P26: =AM27 | Q26: 0.65 | R26: 0.65 | X26: BASE | Y26: 69 | Z26: PD | AA26: -243.25 | AB26: 42.52 | AC26: 155678.81 | AD26: -39.379 | AE26: -356.149 | AF26: -0.97 | AH26: BASE | AI26: 69 | AJ26: PL | AK26: -116.82 | AL26: 22.18 | AM26: 77494.73 | AN26: -18.342 | AO26: -175.606 | AP26: -0.57
B27: =CONCATENATE("T = ",ROUND(SQRT(C23)/100,2)+ROUND(0.5*(B8-B9),2)," m") | D27: 3.35 | E27: m | N27: =SUM(O27:P27) | O27: =AC28 | P27: =AM28 | Q27: 0.65 | R27: 0.65 | X27: BASE | Y27: 71 | Z27: PD | AA27: -176.12 | AB27: -62.58 | AC27: 155330.91 | AD27: 104.205 | AE27: -262.093 | AF27: -0.97 | AH27: BASE | AI27: 71 | AJ27: PL | AK27: -84.24 | AL27: -32.83 | AM27: 77357.45 | AN27: 56.815 | AO27: -129.715 | AP27: -0.57
B28: =CONCATENATE("S = ",ROUND(SQRT(C23)/100,2)-ROUND(0.5*(B8-B9),2)," m") | D28: 2.9 | E28: m | N28: =SUM(O28:P28) | O28: =AC29 | P28: =AM29 | Q28: 0.65 | R28: 0.65 | X28: BASE | Y28: 72 | Z28: PD | AA28: 15537.45 | AB28: 158.82 | AC28: 84784.33 | AD28: -285.507 | AE28: -692.354 | AF28: -17.108 | AH28: BASE | AI28: 72 | AJ28: PL | AK28: 4059 | AL28: 40.97 | AM28: 22402.92 | AN28: -35.603 | AO28: -353.241 | AP28: 1.621
N29: =SUM(O29:P29) | O29: =AC30 | P29: =AM30 | Q29: 0.65 | R29: 0.65 | X29: BASE | Y29: 73 | Z29: PD | AA29: -16042.01 | AB29: 1086.42 | AC29: 89227.83 | AD29: -2241.497 | AE29: 1165.386 | AF29: 94.151 | AH29: BASE | AI29: 73 | AJ29: PL | AK29: -4551.42 | AL29: 401.67 | AM29: 26554.96 | AN29: -812.587 | AO29: 603.051 | AP29: 34.278
B30: Lv1 = Lv2 = | C30: =ROUND(0.5*(D27-B8),3) | D30: m | N30: =SUM(O30:P30) | O30: =AC31 | P30: =AM31 | Q30: 0.65 | R30: 0.65 | X30: BASE | Y30: 76 | Z30: PD | AA30: 17348.48 | AB30: -925.02 | AC30: 93172.28 | AD30: 1206.807 | AE30: -822.372 | AF30: -19.996 | AH30: BASE | AI30: 76 | AJ30: PL | AK30: 4631.58 | AL30: -486.34 | AM30: 25052.55 | AN30: 604.636 | AO30: -411.368 | AP30: -14.562
B31: = | C31: =ROUND(0.5*(D28-B9),3) | D31: m | E31: =IF(C30=C31,"Conforme","Verificar Medidas") | N31: =SUM(O31:P31) | O31: =AC32 | P31: =AM32 | Q31: 0.65 | R31: 0.65 | X31: BASE | Y31: 77 | Z31: PD | AA31: -18681.27 | AB31: -1388.79 | AC31: 104783.2 | AD31: 2276.929 | AE31: 1321.682 | AF31: -58.432 | AH31: BASE | AI31: 77 | AJ31: PL | AK31: -5565.29 | AL31: -804.7 | AM31: 32616.78 | AN31: 1343.473 | AO31: 679.272 | AP31: -40.229
N32: =SUM(O32:P32) | O32: =AC33 | P32: =AM33 | Q32: 0.65 | R32: 0.65 | X32: BASE | Y32: 78 | Z32: PD | AA32: 16685.69 | AB32: -65.07 | AC32: 91731.45 | AD32: 19.477 | AE32: -1301.459 | AF32: -18.573 | AH32: BASE | AI32: 78 | AJ32: PL | AK32: 5909.83 | AL32: 14.61 | AM32: 32360.05 | AN32: -80.775 | AO32: -654.651 | AP32: -14.975
A33: 3° | B33: Reaccion Neta del Terreno | N33: =SUM(O33:P33) | O33: =AC34 | P33: =AM34 | Q33: 0.65 | R33: 0.65 | X33: BASE | Y33: 79 | Z33: PD | AA33: -18180.64 | AB33: -222.26 | AC33: 94627.62 | AD33: 449.103 | AE33: 370.393 | AF33: -18.931 | AH33: BASE | AI33: 79 | AJ33: PL | AK33: -7005.12 | AL33: -116.28 | AM33: 35918.04 | AN33: 256.871 | AO33: 193.47 | AP33: -12.934
N34: =SUM(O34:P34) | O34: =AC35 | P34: =AM35 | Q34: 0.65 | R34: 0.65 | X34: BASE | Y34: 80 | Z34: PD | AA34: 17100.79 | AB34: -637.52 | AC34: 93921.98 | AD34: 1049.105 | AE34: -1353.964 | AF34: 24.615 | AH34: BASE | AI34: 80 | AJ34: PL | AK34: 6113.75 | AL34: -384.18 | AM34: 33411.03 | AN34: 656.793 | AO34: -679.736 | AP34: 19.75
B35: Pu = | C35: =HLOOKUP(D2,Parametros!B8:C10,2,FALSE)*B4+HLOOKUP(D2,Parametros!B8:C10,3,FALSE)*B5 | D35: Kg | N35: =SUM(O35:P35) | O35: =AC36 | P35: =AM36 | Q35: 0.65 | R35: 0.65 | X35: BASE | Y35: 81 | Z35: PD | AA35: -18800.24 | AB35: -349.81 | AC35: 98069.96 | AD35: 478.121 | AE35: 405.821 | AF35: 5.309 | AH35: BASE | AI35: 81 | AJ35: PL | AK35: -7339.2 | AL35: -167.16 | AM35: 37777.72 | AN35: 199.203 | AO35: 211.776 | AP35: 7.713
B36: Azap = | C36: =PRODUCT(D27:D28)*10000 | D36: cm² | N36: =SUM(O36:P36) | O36: =AC37 | P36: =AM37 | Q36: 0.65 | R36: 0.65 | X36: BASE | Y36: 93 | Z36: PD | AA36: 4516.91 | AB36: 1045.51 | AC36: 120942.38 | AD36: -1429.826 | AE36: 6108.612 | AF36: -0.97 | AH36: BASE | AI36: 93 | AJ36: PL | AK36: 2143.83 | AL36: 506.98 | AM36: 41919.71 | AN36: -693.331 | AO36: 2894.026 | AP36: -0.57
B37: Wu = | C37: =C35/C36 | D37: Kg/cm² | N37: =SUM(O37:P37) | O37: =AC38 | P37: =AM38 | Q37: 0.65 | R37: 0.65 | X37: BASE | Y37: 94 | Z37: PD | AA37: -2327.8 | AB37: -646.24 | AC37: 174811.97 | AD37: 868.825 | AE37: -3189.12 | AF37: -0.97 | AH37: BASE | AI37: 94 | AJ37: PL | AK37: -1008.34 | AL37: -259.46 | AM37: 65441.12 | AN37: 348.067 | AO37: -1387.513 | AP37: -0.57
N38: =SUM(O38:P38) | O38: =AC39 | P38: =AM39 | Q38: 0.65 | R38: 0.65 | X38: BASE | Y38: 95 | Z38: PD | AA38: 339.36 | AB38: 15.62 | AC38: 150495.06 | AD38: -30.557 | AE38: 439.818 | AF38: -0.97 | AH38: BASE | AI38: 95 | AJ38: PL | AK38: 177.31 | AL38: 8.72 | AM38: 59578.25 | AN38: -16.367 | AO38: 226.238 | AP38: -0.57
A39: 4° | B39: Dimensionamiento de la altura hz de la Zapata | N39: =SUM(O39:P39) | O39: =AC40 | P39: =AM40 | Q39: 0.65 | R39: 0.65 | X39: BASE | Y39: 96 | Z39: PD | AA39: 508.94 | AB39: 34.79 | AC39: 142970.49 | AD39: -56.741 | AE39: 673.841 | AF39: -0.97 | AH39: BASE | AI39: 96 | AJ39: PL | AK39: 259.03 | AL39: 17.6 | AM39: 56329.39 | AN39: -28.498 | AO39: 339.256 | AP39: -0.57
N40: =SUM(O40:P40) | O40: =AC41 | P40: =AM41 | Q40: 0.65 | R40: 0.65 | X40: BASE | Y40: 97 | Z40: PD | AA40: 552.16 | AB40: -84.89 | AC40: 136509.75 | AD40: 106.753 | AE40: 735.224 | AF40: -0.97 | AH40: BASE | AI40: 97 | AJ40: PL | AK40: 279.47 | AL40: -42.2 | AM40: 53297.74 | AN40: 53.203 | AO40: 368.568 | AP40: -0.57
...

Sheet Combinada Rectangular
A1: ZAPATA COMBINADA RECTANGULAR
E2: ACI 318S-08
J3: Cimentación
B4: Columna Izquierda | E4: Columna Derecha | J4: hf = | K4: 1.5 | L4: m
B5: Pd = | C5: 75000 | D5: Kg | E5: Pd = | F5: 125000 | G5: Kg | J5: S/C = | K5: 500 | L5: Kg/m2
B6: Pl = | C6: 35000 | D6: Kg | E6: Pl = | F6: 50000 | G6: Kg | J6: hc = | K6: 0.1 | L6: m
B7: t1 = | C7: 0.5 | D7: m | E7: t1 = | F7: 0.65 | G7: m | J7: ϒm = | K7: 2100 | L7: Kg/m3
B8: t2 = | C8: 0.5 | D8: m | E8: t2 = | F8: 0.65 | G8: m | J8: σt = | K8: 2 | L8: Kg/cm2
B9: f'c = | C9: 210 | D9: Kg/cm2 | E9: f'c = | F9: 210 | G9: Kg/cm2 | J9: f'c = | K9: 175 | L9: Kg/cm2
J10: fy = | K10: 4200 | L10: Kg/cm2
E11: l1 = | F11: 5 | G11: m
B34: 1° | C34: Esfuerzo Neto del Terreno
D36: σn = | E36: =ROUND(K8-K7*K4*10^-4-2400*K6*10^-4-K5*10^-4,2) | F36: Kg/cm2
B38: 2° | C38: Area de la Zapata
C40: Pt = | D40: =SUM(C5:C6,F5:F6) | E40: Kg
C41: Azap = | D41: =D40/E36 | E41: cm2
C42: Xo = | D42: =ROUND((SUM(C5:C6)*0.5*C7+SUM(F5:F6)*(F11+C7+0.5*F7))/D40,2) | E42: m
C43: Lz = | D43: =2*D42 | E43: m | F43: 7.35 | G43: m
C44: lv = | D44: =F43-(C7+F11+F7) | E44: m
C45: b = | D45: =D41/(F43*100) | E45: cm | F45: 240 | G45: cm
B48: 3° | C48: Reacción Neta del Terreno
C50: ● Por Unidad de Longitud | H50: ● Por Unidad de Area
C52: P1u = | D52: =HLOOKUP(E2,Parametros!B8:C10,2,FALSE)*C5+HLOOKUP(E2,Parametros!B8:C10,3,FALSE)*C6 | E52: Kg | H52: WNU = | I52: =D54 | J52: Kg/m
C53: P2u = | D53: =HLOOKUP(E2,Parametros!B8:C10,2,FALSE)*F5+HLOOKUP(E2,Parametros!B8:C10,3,FALSE)*F6 | E53: Kg | H53: b = | I53: =F45 | J53: cm
C54: WNU = | D54: =SUM(D52:D53)/F43 | E54: Kg/m | H54: Wnu = | I54: =ROUND(I52/I53/100,2) | J54: Kg/cm2
B61: 3° | C61: Dimensionamiento de la Altura hz de la Zapata
C63: Para una Cuantía ρ = | F63: 0.0036 | H63: φ = | I63: =HLOOKUP(E2,Parametros!B2:C5,2,FALSE)
E64: ρmin = | F64: 0.0018
I77: Xo = | J77: =ROUND(D52/D54,3) | K77: m
H78: Mmáx = | J78: =D54*0.5*J77^2-D52*(J77-0.5*C7) | K78: Kg-m
I79: d = | J79: =ROUND(SQRT(ABS(J78)*100/(I63*F63*F45*K10*(1-0.59*F63*K10/K9))),2) | K79: cm
I80: hz = | J80: =J79+F85+VLOOKUP(F86,Parametros!E2:G6,2,FALSE) | K80: cm | L80: hz = | M80: 85 | N80: cm
C84: Peralte Efectivo en Tramo Interior
C85: Recubrimiento r = | F85: 5 | G85: cm | I85: d = | J85: =M80-(F85+VLOOKUP(F86,Parametros!E2:G6,2,FALSE)/2) | K85: cm | L85: Interior
C86: Varillas a Usar | E86: φ: | F86: 1" | G86: Interior
C87: Peralte Efectivo en Voladizo
C88: Recubrimiento r = | F88: 7.5 | G88: cm
C89: Varillas a Usar | E89: φ: | F89: 3/4" | G89: Voladizo | I89: d = | J89: =ROUND(M80-(F88+VLOOKUP(F89,Parametros!E2:G6,2,FALSE)/2),2) | K89: cm | L89: Voladizo
B93: 4° | C93: Verificaciónes
C95: ● Por Cortante | H95: φ = | I95: =HLOOKUP(E2,Parametros!B2:C5,4,FALSE)
...

Sheet Parametros
A1: Coeficientes φ para Diseño | E1: Varilla | F1: Diámetro | G1: Area
A2: Factores φ | B2: NTE E.060 | C2: ACI 318S-08 | E2: 3/8" | F2: 0.9525 | G2: =ROUND(PI()*F2^2/4,2) | H2: 3 | M2: 1.5 | N2: 1.2 | O2: 1
A3: Tensión | B3: 0.9 | C3: 0.9 | E3: 1/2" | F3: 1.27 | G3: =ROUND(PI()*F3^2/4,2) | H3: 4
A4: Compresión | B4: 0.7 | C4: 0.65 | E4: 5/8" | F4: 1.5875 | G4: =ROUND(PI()*F4^2/4,2) | H4: 5
A5: Cortante | B5: 0.85 | C5: 0.75 | E5: 3/4" | F5: 1.905 | G5: =ROUND(PI()*F5^2/4,2) | H5: 6
E6: 1" | F6: 2.54 | G6: =ROUND(PI()*F6^2/4,2) | H6: 8
A7: Combinaciones para Carga Estática | E7: 1 3/8" | F7: 3.4925 | G7: =ROUND(PI()*F7^2/4,2) | H7: 11
A8: Coeficientes | B8: NTE E.060 | C8: ACI 318S-08
A9: Carga Muerta | B9: 1.5 | C9: 1.2
A10: Carga Viva | B10: 1.8 | C10: 1.6
A12: Longitudes de Desarrollo
H13: Factores Ψ | I13: Descripción | J13: Valor
H14: Ψt | I14: Varillas Superiores | J14: 1.3
I15: Otras Varillas | J15: 1
H16: Ψe | I16: Varillas o alambres con recubrimiento Expóxico con menos de 3db de recubrimiento o separación libre menor de 6db | J16: 1.5
I17: Todas la Otras Varillas o Alambre con Recubrimiento Epóxico | J17: 1.2
I18: Refuerzo sin Recubrimiento y con recubrimiento con zinc | J18: 1
H19: Ψs | I19: Varillas o alambres menores o iguales a la #6 | J19: 0.8
I20: Varillas mayores o iguales a la #7 | J20: 1
H21: λ | I21: Concreto de Peso Liviano | J21: 0.75
I22: Cuando se especifica fct
I23: Concreto de Peso Normal | J23: 1

Sheet Hoja1
B2: Story | C2: Point | D2: Load | E2: FX | F2: FY | G2: FZ | H2: MX | I2: MY | J2: MZ
B3: BASE | C3: 1 | D3: PD | E3: 126.08 | F3: 1344.51 | G3: 20683.64 | H3: -20.198 | I3: -3387.191 | J3: -0.393
B4: BASE | C4: 1 | D4: PL | E4: 58.73 | F4: 221.65 | G4: 3590.06 | H4: -1.244 | I4: -566.794 | J4: -1.431
B5: BASE | C5: 2 | D5: PD | E5: 245.14 | F5: 32.82 | G5: 24795.3 | H5: -9.255 | I5: -3851.032 | J5: -5.936
B6: BASE | C6: 2 | D6: PL | E6: 125.29 | F6: 13.43 | G6: 4773.94 | H6: -3.405 | I6: -669.605 | J6: -2.403
B7: BASE | C7: 3 | D7: PD | E7: 1460.07 | F7: 10.05 | G7: 43274.41 | H7: -4.025 | I7: -5989.19 | J7: -3.23
B8: BASE | C8: 3 | D8: PL | E8: 627.95 | F8: 6.02 | G8: 9246.51 | H8: -1.744 | I8: -1008.448 | J8: -0.836
B9: BASE | C9: 4 | D9: PD | E9: 1461.72 | F9: -5.61 | G9: 43337.62 | H9: 1.255 | I9: -6020.959 | J9: -0.083
B10: BASE | C10: 4 | D10: PL | E10: 627.8 | F10: -2.15 | G10: 9434.48 | H10: 1.011 | I10: -1046.095 | J10: 0.017
B11: BASE | C11: 5 | D11: PD | E11: 1452.8 | F11: -36.81 | G11: 41599.8 | H11: 11.771 | I11: -5707.363 | J11: 3.256
B12: BASE | C12: 5 | D12: PL | E12: 621.28 | F12: -13.62 | G12: 8925.59 | H12: 4.878 | I12: -951.138 | J12: 1.898
B13: BASE | C13: 6 | D13: PD | E13: 866.85 | F13: -1319.95 | G13: 34067.5 | H13: 31.41 | I13: -5095.579 | J13: -0.729
B14: BASE | C14: 6 | D14: PL | E14: 319.35 | F14: -249.21 | G14: 6718.35 | H14: 3.38 | I14: -890.674 | J14: 1.694
... B210: BASE | C210: 304 | D210: PL | E210: 0 | F210: 0 | G210: 10100.76 | H210: 0.073 | I210: 0 | J210: 0

Sheet Hoja2
B3: Story | C3: ElementType | D3: Material | E3: TotalWeight | F3: FloorArea | G3: UnitWeight | H3: NumPieces | I3: NumStuds
B4: ROOF | C4: Column | D4: FC280 | E4: 123706.8 | F4: 8954369.6 | G4: 0.0138 | H4: 31
B5: ROOF | C5: Beam | D5: FC280 | E5: 52759.887 | F5: 8954369.6 | G5: 0.0059 | H5: 25 | I5: 0
B6: ROOF | C6: Wall | D6: FC280 | E6: 99066.952 | F6: 8954369.6 | G6: 0.0111
B7: ROOF | C7: Floor | D7: FC280 | E7: 456672.85 | F7: 8954369.6 | G7: 0.051
B8: STORY4 | C8: Column | D8: FC280 | E8: 257443.2 | F8: 24043613 | G8: 0.0107 | H8: 69
B9: STORY4 | C9: Beam | D9: FC280 | E9: 106352.02 | F9: 24043613 | G9: 0.0044 | H9: 50 | I9: 0
B10: STORY4 | C10: Wall | D10: FC280 | E10: 318875.89 | F10: 24043613 | G10: 0.0133
B11: STORY4 | C11: Floor | D11: FC280 | E11: 1226224.2 | F11: 24043613 | G11: 0.051
B12: STORY3 | C12: Column | D12: FC280 | E12: 257443.2 | F12: 23484947 | G12: 0.011 | H12: 69
B13: STORY3 | C13: Beam | D13: FC280 | E13: 109224.82 | F13: 23484947 | G13: 0.0047 | H13: 51 | I13: 0
B14: STORY3 | C14: Wall | D14: FC280 | E14: 318875.89 | F14: 23484947 | G14: 0.0136
B15: STORY3 | C15: Floor | D15: FC280 | E15: 1197732.3 | F15: 23484947 | G15: 0.051
B16: STORY2 | C16: Column | D16: FC280 | E16: 257443.2 | F16: 23394962 | G16: 0.011 | H16: 69
B17: STORY2 | C17: Beam | D17: FC280 | E17: 112545.14 | F17: 23394962 | G17: 0.0048 | H17: 53 | I17: 0
B18: STORY2 | C18: Wall | D18: FC280 | E18: 318875.89 | F18: 23394962 | G18: 0.0136
B19: STORY2 | C19: Floor | D19: FC280 | E19: 1193143 | F19: 23394962 | G19: 0.051
B20: BASEMENT | C20: Column | D20: FC280 | E20: 257443.2 | F20: 20665718 | G20: 0.0125 | H20: 69
B21: BASEMENT | C21: Beam | D21: FC280 | E21: 115394.22 | F21: 20665718 | G21: 0.0056 | H21: 52 | I21: 0
B22: BASEMENT | C22: Wall | D22: FC280 | E22: 318875.89 | F22: 20665718 | G22: 0.0154
B23: BASEMENT | C23: Floor | D23: FC280 | E23: 1053951.6 | F23: 20665718 | G23: 0.051
B24: SUM | C24: Column | D24: FC280 | E24: 1153479.6 | F24: 1.0054361e+08 | G24: 0.0115 | H24: 307
B25: SUM | C25: Beam | D25: FC280 | E25: 496276.08 | F25: 1.0054361e+08 | G25: 0.0049 | H25: 231 | I25: 0
B26: SUM | C26: Wall | D26: FC280 | E26: 1374570.5 | F26: 1.0054361e+08 | G26: 0.0137
B27: SUM | C27: Floor | D27: FC280 | E27: 5127724 | F27: 1.0054361e+08 | G27: 0.051
B28: TOTAL | C28: All | D28: All | E28: 8152050.2 | F28: 1.0054361e+08 | G28: 0.0811 | H28: 538 | I28: 0
